{"text_format":"1","workbook":"xlsx","n_sheets":4,"sheets":["請求書（貴社控）","請求書(担当者控)","請求書　三柏","請求書 手書用"],"not_rendered":{"charts":0,"images":2,"macros":1,"external_links":0,"defined_names":0,"comments":0,"pivot_tables":0},"unopened":[],"bounds":{"document_bytes":16777216,"sheet_cells":100000,"rows_first":2000,"rows_last":500,"rows_between":2000,"halvings":0,"cell_chars":16384,"cell_head_chars":4096},"cells_cut":0,"cells_raw":0,"read":"whole","date_system":"1900"}

{"sheet":"請求書（貴社控）","index":0,"n_rows":43,"n_cols":48,"rows_kept":43,"cut":false,"hidden":false,"merged":[[20,0,20,2],[22,0,22,2],[7,2,7,9],[11,2,11,10],[10,2,10,10],[12,2,12,10],[13,2,13,10],[14,2,14,10],[15,2,15,10],[16,2,16,10],[18,0,18,10],[18,22,18,24],[19,11,20,13],[19,14,20,21],[19,22,20,24],[21,11,22,13],[21,14,22,21],[21,22,22,24],[18,11,18,13],[18,14,18,21],[1,1,2,23],[6,1,6,9],[3,20,3,24],[4,1,5,9],[17,1,17,10],[17,11,17,17],[17,18,17,19],[17,20,17,21],[17,22,17,24],[5,14,5,18],[6,19,6,24],[7,19,7,24],[8,19,8,24],[6,14,6,18],[7,14,7,18],[8,14,8,18],[16,20,16,21],[11,22,11,24],[12,22,12,24],[13,22,13,24],[14,22,14,24],[15,22,15,24],[16,22,16,24],[16,18,16,19],[10,20,10,21],[10,22,10,24],[14,11,14,17],[14,18,14,19],[11,20,11,21],[12,20,12,21],[13,20,13,21],[14,20,14,21],[15,20,15,21],[11,11,11,17],[12,11,12,17],[13,11,13,17],[15,11,15,17],[16,11,16,17],[10,18,10,19],[11,18,11,19],[12,18,12,19],[13,18,13,19],[15,18,15,19],[10,11,10,17]]}
[null,null,null,null,null,null,null,null,null,null,null,null,null,null,null,null,null,null,null,null,null,"No."]
[null,"　請 求 書(貴社控え)"]
[]
[null,null,null,null,null,null,null,null,null,null,null,null,null,null,null,null,null,null,null,null,"年　　　月末締"]
[null,"三 柏 株式会社　御中"]
[null,null,null,null,null,null,null,null,null,null,null,null,null,null,"請求者コード",null,null,null,null,0,0,"―",0,0,0]
[null,null,null,null,null,null,null,null,null,null,null,null,null,null,"住 所",null,null,null,null,"○○県○○市○○町"]
[null,"工事略称","   ○○〇〇〇〇〇",null,null,null,null,null,null,null,"作業所",null,null,null,"社 名",null,null,null,null,"□□□□□□株式会社"]
["下記の通り請求致します。",null,null,null,null,null,null,null,null,null,null,null,null,null,"TEL",null,null,null,null,"△△△△-△△-△△△△"]
[null,null,null,null,null,null,null,null,null,null,null,null,null,null,null,null,null,null,null,null,null,null,null,null,null,null,null,null,null,null,null,null,null,null,null,null,null,null,null,null,null,null,null,null,null,null,false,true]
["月","日","内訳",null,null,null,null,null,null,null,null,null,null,null,null,null,null,null,"単位",null,"単価\n又は\n出来高％",null,"金額\n又は\n出来高金額"]
[]
[]
[]
[]
[]
[]
["a","合　　　　　　計",null,null,null,null,null,null,null,null,null,null,null,null,null,null,null,null,null,null,null,null,{"$f":"SUM(W12:Y17)","v":0}]
["a・dは全請求者記入　b・ｃは契約対象取引記入",null,null,null,null,null,null,null,null,null,null,"ｂ",null,null,"a×90％（未契約は×80％）"]
[null,null,null,null,null,null,null,null,null,null,null,"ｃ",null,null,"前 回 迄 の 入 金 額"]
["注文書No"]
[null,null,null,null,null,null,null,null,null,null,null,"ｄ",null,null,"b-c 今 回 請 求 金 額",null,null,null,null,null,null,null,{"$f":"IF(W20=\"\",W18,W19-W20)","v":0}]
["発注書No"]
[]
["＊請求書ご記入の前に必ずお読み下さい。"]
["【提出について】"]
["　・請求書提出は月末締翌月4日までに本社必着。"]
["　・郵送の際は必ず封筒に請求書在中と明記してご郵送ください。"]
["　・提出期日未着の場合は如何なる理由でも翌月扱いとさせて頂きます。"]
["【記 入 方 法】"]
["　・請求に関する該当記入事項は全て記入して下さい。"]
["　・訂正箇所のある場合は、二本線により訂正し押印してください。"]
["　　（修正液での訂正、訂正押印の無い請求書に関しましては受理いたしません。)"]
["　・請負契約工事の場合→　請求書に請負内容を記入の上、請求して下さい。"]
["　・単価契約又は"]
["　　契約外工事の場合　→　請求書に今回請求の総額を記入して下さい。"]
["　　　　　　　　　　　　　尚請求書の内訳に書ききれない場合は様式は問いませんので内容がわかる内訳書を別途添付してください。"]
["　・出来高１００％における10％保留額についても請求書の提出が必要です。"]
["　　尚１０％保留金請求の場合、（ｂ）は記入せず、（ｄ）今回請求金額はa-cと置き換えて記入して下さい。"]
["　・請求書ご記入の上、提出枚数、契約・契約外に係わらず、必ず総括請求書に指定事項を記入し請求書と共に提出して下さい。"]
["　・請求書に記入する金額は全て税抜金額で記入して下さい。"]
["【お支払について】"]
["　・お支払につきましては指定口座振込"]

{"sheet":"請求書(担当者控)","index":1,"n_rows":26,"n_cols":25,"rows_kept":26,"cut":false,"hidden":false,"merged":[[1,1,2,23],[3,20,3,24],[4,1,5,9],[5,14,5,18],[6,1,6,9],[6,14,6,18],[6,19,6,24],[10,2,10,10],[10,11,10,17],[10,18,10,19],[10,20,10,21],[10,22,10,24],[7,2,7,9],[7,14,7,18],[7,19,7,24],[8,14,8,18],[8,19,8,24],[12,2,12,10],[12,11,12,17],[12,18,12,19],[12,20,12,21],[12,22,12,24],[11,2,11,10],[11,11,11,17],[11,18,11,19],[11,20,11,21],[11,22,11,24],[14,2,14,10],[14,11,14,17],[14,18,14,19],[14,20,14,21],[14,22,14,24],[13,2,13,10],[13,11,13,17],[13,18,13,19],[13,20,13,21],[13,22,13,24],[18,0,18,10],[18,11,18,13],[18,14,18,21],[18,22,18,24],[15,2,15,10],[15,11,15,17],[15,18,15,19],[15,20,15,21],[15,22,15,24],[16,2,16,10],[16,11,16,17],[16,18,16,19],[16,20,16,21],[16,22,16,24],[17,1,17,10],[17,11,17,17],[17,18,17,19],[17,20,17,21],[17,22,17,24],[19,11,20,13],[19,14,20,21],[19,22,20,24],[20,0,20,2],[21,11,22,13],[21,14,22,21],[21,22,22,24],[22,0,22,2],[23,11,24,21],[23,22,24,24],[25,2,36,3],[25,4,36,5],[25,6,36,7],[25,8,36,9],[25,11,27,24]]}
[null,null,null,null,null,null,null,null,null,null,null,null,null,null,null,null,null,null,null,null,null,"No.",null,{"$f":"'請求書（貴社控）'!X1","v":0}]
[null,"　請 求 書（担当者控）"]
[]
[null,null,null,null,null,null,null,null,null,null,null,null,null,null,null,null,null,null,null,null,{"$f":"'請求書（貴社控）'!U4:Y4","v":"年　　　月末締"}]
[null,"三 柏 株式会社　御中"]
[null,null,null,null,null,null,null,null,null,null,null,null,null,null,"請求者コード",null,null,null,null,{"$f":"'請求書（貴社控）'!T6","v":0},{"$f":"'請求書（貴社控）'!U6","v":0},"―",{"$f":"'請求書（貴社控）'!W6","v":0},{"$f":"'請求書（貴社控）'!X6","v":0},{"$f":"'請求書（貴社控）'!Y6","v":0}]
[null,null,null,null,null,null,null,null,null,null,null,null,null,null,"住 所",null,null,null,null,{"$f":"'請求書（貴社控）'!T7:Y7","v":"○○県○○市○○町"}]
[null,"工事略称",{"$f":"'請求書（貴社控）'!C8:J8","v":"   ○○〇〇〇〇〇"},null,null,null,null,null,null,null,"作業所",null,null,null,"社 名",null,null,null,null,{"$f":"'請求書（貴社控）'!T8:Y8","v":"□□□□□□株式会社"}]
["下記の通り請求致します。",null,null,null,null,null,null,null,null,null,null,null,null,null,"TEL",null,null,null,null,{"$f":"'請求書（貴社控）'!T9:Y9","v":"△△△△-△△-△△△△"}]
[]
["月","日","内訳",null,null,null,null,null,null,null,null,null,null,null,null,null,null,null,"単位",null,"単価\n又は\n出来高％",null,"金額\n又は\n出来高金額"]
[{"$f":"'請求書（貴社控）'!A12","v":0},{"$f":"'請求書（貴社控）'!B12","v":0},{"$f":"'請求書（貴社控）'!C12:K12","v":0},null,null,null,null,null,null,null,null,{"$f":"IF(ISBLANK('請求書（貴社控）'!L12:R12),\" \",'請求書（貴社控）'!L12:R12)","v":" "},null,null,null,null,null,null,{"$f":"IF(ISBLANK('請求書（貴社控）'!S12:T12),\" \",'請求書（貴社控）'!S12:T12)","v":" "},null,{"$f":"IF(ISBLANK('請求書（貴社控）'!U12:V12),\" \",'請求書（貴社控）'!U12:V12)","v":" "},null,{"$f":"IF(ISBLANK('請求書（貴社控）'!W12:Y12),\" \",'請求書（貴社控）'!W12:Y12)","v":" "}]
[{"$f":"'請求書（貴社控）'!A13","v":0},{"$f":"'請求書（貴社控）'!B13","v":0},{"$f":"'請求書（貴社控）'!C13:K13","v":0},null,null,null,null,null,null,null,null,{"$f":"IF(ISBLANK('請求書（貴社控）'!L13:R13),\" \",'請求書（貴社控）'!L13:R13)","v":" "},null,null,null,null,null,null,{"$f":"IF(ISBLANK('請求書（貴社控）'!S13:T13),\" \",'請求書（貴社控）'!S13:T13)","v":" "},null,{"$f":"IF(ISBLANK('請求書（貴社控）'!U13:V13),\" \",'請求書（貴社控）'!U13:V13)","v":" "},null,{"$f":"IF(ISBLANK('請求書（貴社控）'!W13:Y13),\" \",'請求書（貴社控）'!W13:Y13)","v":" "}]
[{"$f":"'請求書（貴社控）'!A14","v":0},{"$f":"'請求書（貴社控）'!B14","v":0},{"$f":"'請求書（貴社控）'!C14:K14","v":0},null,null,null,null,null,null,null,null,{"$f":"IF(ISBLANK('請求書（貴社控）'!L14:R14),\" \",'請求書（貴社控）'!L14:R14)","v":" "},null,null,null,null,null,null,{"$f":"IF(ISBLANK('請求書（貴社控）'!S14:T14),\" \",'請求書（貴社控）'!S14:T14)","v":" "},null,{"$f":"IF(ISBLANK('請求書（貴社控）'!U14:V14),\" \",'請求書（貴社控）'!U14:V14)","v":" "},null,{"$f":"IF(ISBLANK('請求書（貴社控）'!W14:Y14),\" \",'請求書（貴社控）'!W14:Y14)","v":" "}]
[{"$f":"'請求書（貴社控）'!A15","v":0},{"$f":"'請求書（貴社控）'!B15","v":0},{"$f":"'請求書（貴社控）'!C15:K15","v":0},null,null,null,null,null,null,null,null,{"$f":"IF(ISBLANK('請求書（貴社控）'!L15:R15),\" \",'請求書（貴社控）'!L15:R15)","v":" "},null,null,null,null,null,null,{"$f":"IF(ISBLANK('請求書（貴社控）'!S15:T15),\" \",'請求書（貴社控）'!S15:T15)","v":" "},null,{"$f":"IF(ISBLANK('請求書（貴社控）'!U15:V15),\" \",'請求書（貴社控）'!U15:V15)","v":" "},null,{"$f":"IF(ISBLANK('請求書（貴社控）'!W15:Y15),\" \",'請求書（貴社控）'!W15:Y15)","v":" "}]
[{"$f":"'請求書（貴社控）'!A16","v":0},{"$f":"'請求書（貴社控）'!B16","v":0},{"$f":"'請求書（貴社控）'!C16:K16","v":0},null,null,null,null,null,null,null,null,{"$f":"IF(ISBLANK('請求書（貴社控）'!L16:R16),\" \",'請求書（貴社控）'!L16:R16)","v":" "},null,null,null,null,null,null,{"$f":"IF(ISBLANK('請求書（貴社控）'!S16:T16),\" \",'請求書（貴社控）'!S16:T16)","v":" "},null,{"$f":"IF(ISBLANK('請求書（貴社控）'!U16:V16),\" \",'請求書（貴社控）'!U16:V16)","v":" "},null,{"$f":"IF(ISBLANK('請求書（貴社控）'!W16:Y16),\" \",'請求書（貴社控）'!W16:Y16)","v":" "}]
[{"$f":"'請求書（貴社控）'!A17","v":0},{"$f":"'請求書（貴社控）'!B17","v":0},{"$f":"'請求書（貴社控）'!C17:K17","v":0},null,null,null,null,null,null,null,null,{"$f":"IF(ISBLANK('請求書（貴社控）'!L17:R17),\" \",'請求書（貴社控）'!L17:R17)","v":" "},null,null,null,null,null,null,{"$f":"IF(ISBLANK('請求書（貴社控）'!S17:T17),\" \",'請求書（貴社控）'!S17:T17)","v":" "},null,{"$f":"IF(ISBLANK('請求書（貴社控）'!U17:V17),\" \",'請求書（貴社控）'!U17:V17)","v":" "},null,{"$f":"IF(ISBLANK('請求書（貴社控）'!W17:Y17),\" \",'請求書（貴社控）'!W17:Y17)","v":" "}]
["a","合　　　　　　計",null,null,null,null,null,null,null,null,null,null,null,null,null,null,null,null,null,null,null,null,{"$f":"'請求書（貴社控）'!W18:Y18","v":0}]
["a・dは全請求者記入　b・ｃは契約対象取引記入",null,null,null,null,null,null,null,null,null,null,"ｂ",null,null,"a×90％（未契約は×80％）",null,null,null,null,null,null,null,{"$f":"'請求書（貴社控）'!W19:Y19","v":0}]
[null,null,null,null,null,null,null,null,null,null,null,"ｃ",null,null,"前 回 迄 の 入 金 額",null,null,null,null,null,null,null,{"$f":"'請求書（貴社控）'!W20:Y20","v":0}]
["注文書No",null,null,{"$f":"IF(ISBLANK('請求書（貴社控）'!D21),\" \",'請求書（貴社控）'!D21)","v":" "},{"$f":"IF(ISBLANK('請求書（貴社控）'!E21),\" \",'請求書（貴社控）'!E21)","v":" "},{"$f":"IF(ISBLANK('請求書（貴社控）'!F21),\" \",'請求書（貴社控）'!F21)","v":" "},{"$f":"IF(ISBLANK('請求書（貴社控）'!G21),\" \",'請求書（貴社控）'!G21)","v":" "},{"$f":"IF(ISBLANK('請求書（貴社控）'!H21),\" \",'請求書（貴社控）'!H21)","v":" "},{"$f":"IF(ISBLANK('請求書（貴社控）'!I21),\" \",'請求書（貴社控）'!I21)","v":" "},{"$f":"IF(ISBLANK('請求書（貴社控）'!J21),\" \",'請求書（貴社控）'!J21)","v":" "},null,null,null,null,null,null,null,null,null,null,null,null,{"$f":"'請求書（貴社控）'!W21:Y21","v":0}]
[null,null,null,null,null,null,null,null,null,null,null,"ｄ",null,null,"b-c 今 回 請 求 金 額",null,null,null,null,null,null,null,{"$f":"'請求書（貴社控）'!W22:Y22","v":0}]
["発注書No",null,null,{"$f":"IF(ISBLANK('請求書（貴社控）'!D23),\" \",'請求書（貴社控）'!D23)","v":" "},{"$f":"IF(ISBLANK('請求書（貴社控）'!E23),\" \",'請求書（貴社控）'!E23)","v":" "},{"$f":"IF(ISBLANK('請求書（貴社控）'!F23),\" \",'請求書（貴社控）'!F23)","v":" "},{"$f":"IF(ISBLANK('請求書（貴社控）'!G23),\" \",'請求書（貴社控）'!G23)","v":" "},{"$f":"IF(ISBLANK('請求書（貴社控）'!H23),\" \",'請求書（貴社控）'!H23)","v":" "},{"$f":"IF(ISBLANK('請求書（貴社控）'!I23),\" \",'請求書（貴社控）'!I23)","v":" "},{"$f":"IF(ISBLANK('請求書（貴社控）'!J23),\" \",'請求書（貴社控）'!J23)","v":" "},null,null,null,null,null,null,null,null,null,null,null,null,{"$f":"'請求書（貴社控）'!W23:Y23","v":0}]
[null,null,null,null,null,null,null,null,null,null,null,"今　回　査　定　額"]
[]
[null,null,null,null,null,null,null,null,null,null,null,"【備考欄】"]

{"sheet":"請求書　三柏","index":2,"n_rows":26,"n_cols":25,"rows_kept":26,"cut":false,"hidden":false,"merged":[[19,11,20,13],[19,14,20,21],[19,22,20,24],[20,0,20,2],[21,11,22,13],[21,14,22,21],[21,22,22,24],[22,0,22,2],[17,18,17,19],[17,20,17,21],[17,22,17,24],[25,4,36,5],[25,6,36,7],[25,8,36,9],[25,11,27,24],[18,0,18,10],[18,11,18,13],[18,14,18,21],[18,22,18,24],[17,1,17,10],[17,11,17,17],[25,2,36,3],[23,22,24,24],[23,11,24,21],[15,2,15,10],[15,11,15,17],[15,18,15,19],[15,20,15,21],[15,22,15,24],[16,2,16,10],[16,11,16,17],[16,18,16,19],[16,20,16,21],[16,22,16,24],[13,2,13,10],[13,11,13,17],[13,18,13,19],[13,20,13,21],[13,22,13,24],[14,2,14,10],[14,11,14,17],[14,18,14,19],[14,20,14,21],[14,22,14,24],[11,2,11,10],[11,11,11,17],[11,18,11,19],[11,20,11,21],[11,22,11,24],[12,2,12,10],[12,11,12,17],[12,18,12,19],[12,20,12,21],[12,22,12,24],[7,14,7,18],[7,19,7,24],[8,14,8,18],[8,19,8,24],[10,2,10,10],[10,11,10,17],[10,18,10,19],[10,20,10,21],[10,22,10,24],[7,2,7,9],[1,1,2,23],[3,20,3,24],[4,1,5,9],[5,14,5,18],[6,1,6,9],[6,14,6,18],[6,19,6,24]]}
[null,null,null,null,null,null,null,null,null,null,null,null,null,null,null,null,null,null,null,null,null,"No.",null,{"$f":"'請求書（貴社控）'!X1","v":0}]
[null,"　請 求 書"]
[]
[null,null,null,null,null,null,null,null,null,null,null,null,null,null,null,null,null,null,null,null,{"$f":"'請求書（貴社控）'!U4:Y4","v":"年　　　月末締"}]
[null,"三 柏 株式会社　御中"]
[null,null,null,null,null,null,null,null,null,null,null,null,null,null,"請求者コード",null,null,null,null,{"$f":"'請求書（貴社控）'!T6","v":0},{"$f":"'請求書（貴社控）'!U6","v":0},"―",{"$f":"'請求書（貴社控）'!W6","v":0},{"$f":"'請求書（貴社控）'!X6","v":0},{"$f":"'請求書（貴社控）'!Y6","v":0}]
[null,null,null,null,null,null,null,null,null,null,null,null,null,null,"住 所",null,null,null,null,{"$f":"'請求書（貴社控）'!T7:Y7","v":"○○県○○市○○町"}]
[null,"工事略称",{"$f":"'請求書（貴社控）'!C8:J8","v":"   ○○〇〇〇〇〇"},null,null,null,null,null,null,null,"作業所",null,null,null,"社 名",null,null,null,null,{"$f":"'請求書（貴社控）'!T8:Y8","v":"□□□□□□株式会社"}]
["下記の通り請求致します。",null,null,null,null,null,null,null,null,null,null,null,null,null,"TEL",null,null,null,null,{"$f":"'請求書（貴社控）'!T9:Y9","v":"△△△△-△△-△△△△"}]
[]
["月","日","内訳",null,null,null,null,null,null,null,null,null,null,null,null,null,null,null,"単位",null,"単価\n又は\n出来高％",null,"金額\n又は\n出来高金額"]
[{"$f":"'請求書（貴社控）'!A12","v":0},{"$f":"'請求書（貴社控）'!B12","v":0},{"$f":"'請求書（貴社控）'!C12:K12","v":0},null,null,null,null,null,null,null,null,{"$f":"IF(ISBLANK('請求書（貴社控）'!L12:R12),\" \",'請求書（貴社控）'!L12:R12)","v":" "},null,null,null,null,null,null,{"$f":"IF(ISBLANK('請求書（貴社控）'!S12:T12),\" \",'請求書（貴社控）'!S12:T12)","v":" "},null,{"$f":"IF(ISBLANK('請求書（貴社控）'!U12:V12),\" \",'請求書（貴社控）'!U12:V12)","v":" "},null,{"$f":"IF(ISBLANK('請求書（貴社控）'!W12:Y12),\" \",'請求書（貴社控）'!W12:Y12)","v":" "}]
[{"$f":"'請求書（貴社控）'!A13","v":0},{"$f":"'請求書（貴社控）'!B13","v":0},{"$f":"'請求書（貴社控）'!C13:K13","v":0},null,null,null,null,null,null,null,null,{"$f":"IF(ISBLANK('請求書（貴社控）'!L13:R13),\" \",'請求書（貴社控）'!L13:R13)","v":" "},null,null,null,null,null,null,{"$f":"IF(ISBLANK('請求書（貴社控）'!S13:T13),\" \",'請求書（貴社控）'!S13:T13)","v":" "},null,{"$f":"IF(ISBLANK('請求書（貴社控）'!U13:V13),\" \",'請求書（貴社控）'!U13:V13)","v":" "},null,{"$f":"IF(ISBLANK('請求書（貴社控）'!W13:Y13),\" \",'請求書（貴社控）'!W13:Y13)","v":" "}]
[{"$f":"'請求書（貴社控）'!A14","v":0},{"$f":"'請求書（貴社控）'!B14","v":0},{"$f":"'請求書（貴社控）'!C14:K14","v":0},null,null,null,null,null,null,null,null,{"$f":"IF(ISBLANK('請求書（貴社控）'!L14:R14),\" \",'請求書（貴社控）'!L14:R14)","v":" "},null,null,null,null,null,null,{"$f":"IF(ISBLANK('請求書（貴社控）'!S14:T14),\" \",'請求書（貴社控）'!S14:T14)","v":" "},null,{"$f":"IF(ISBLANK('請求書（貴社控）'!U14:V14),\" \",'請求書（貴社控）'!U14:V14)","v":" "},null,{"$f":"IF(ISBLANK('請求書（貴社控）'!W14:Y14),\" \",'請求書（貴社控）'!W14:Y14)","v":" "}]
[{"$f":"'請求書（貴社控）'!A15","v":0},{"$f":"'請求書（貴社控）'!B15","v":0},{"$f":"'請求書（貴社控）'!C15:K15","v":0},null,null,null,null,null,null,null,null,{"$f":"IF(ISBLANK('請求書（貴社控）'!L15:R15),\" \",'請求書（貴社控）'!L15:R15)","v":" "},null,null,null,null,null,null,{"$f":"IF(ISBLANK('請求書（貴社控）'!S15:T15),\" \",'請求書（貴社控）'!S15:T15)","v":" "},null,{"$f":"IF(ISBLANK('請求書（貴社控）'!U15:V15),\" \",'請求書（貴社控）'!U15:V15)","v":" "},null,{"$f":"IF(ISBLANK('請求書（貴社控）'!W15:Y15),\" \",'請求書（貴社控）'!W15:Y15)","v":" "}]
[{"$f":"'請求書（貴社控）'!A16","v":0},{"$f":"'請求書（貴社控）'!B16","v":0},{"$f":"'請求書（貴社控）'!C16:K16","v":0},null,null,null,null,null,null,null,null,{"$f":"IF(ISBLANK('請求書（貴社控）'!L16:R16),\" \",'請求書（貴社控）'!L16:R16)","v":" "},null,null,null,null,null,null,{"$f":"IF(ISBLANK('請求書（貴社控）'!S16:T16),\" \",'請求書（貴社控）'!S16:T16)","v":" "},null,{"$f":"IF(ISBLANK('請求書（貴社控）'!U16:V16),\" \",'請求書（貴社控）'!U16:V16)","v":" "},null,{"$f":"IF(ISBLANK('請求書（貴社控）'!W16:Y16),\" \",'請求書（貴社控）'!W16:Y16)","v":" "}]
[{"$f":"'請求書（貴社控）'!A17","v":0},{"$f":"'請求書（貴社控）'!B17","v":0},{"$f":"'請求書（貴社控）'!C17:K17","v":0},null,null,null,null,null,null,null,null,{"$f":"IF(ISBLANK('請求書（貴社控）'!L17:R17),\" \",'請求書（貴社控）'!L17:R17)","v":" "},null,null,null,null,null,null,{"$f":"IF(ISBLANK('請求書（貴社控）'!S17:T17),\" \",'請求書（貴社控）'!S17:T17)","v":" "},null,{"$f":"IF(ISBLANK('請求書（貴社控）'!U17:V17),\" \",'請求書（貴社控）'!U17:V17)","v":" "},null,{"$f":"IF(ISBLANK('請求書（貴社控）'!W17:Y17),\" \",'請求書（貴社控）'!W17:Y17)","v":" "}]
["a","合　　　　　　計",null,null,null,null,null,null,null,null,null,null,null,null,null,null,null,null,null,null,null,null,{"$f":"'請求書（貴社控）'!W18:Y18","v":0}]
["a・dは全請求者記入　b・ｃは契約対象取引記入",null,null,null,null,null,null,null,null,null,null,"ｂ",null,null,"a×90％（未契約は×80％）",null,null,null,null,null,null,null,{"$f":"'請求書（貴社控）'!W19:Y19","v":0}]
[null,null,null,null,null,null,null,null,null,null,null,"ｃ",null,null,"前 回 迄 の 入 金 額",null,null,null,null,null,null,null,{"$f":"'請求書（貴社控）'!W20:Y20","v":0}]
["注文書No",null,null,{"$f":"IF(ISBLANK('請求書（貴社控）'!D21),\" \",'請求書（貴社控）'!D21)","v":" "},{"$f":"IF(ISBLANK('請求書（貴社控）'!E21),\" \",'請求書（貴社控）'!E21)","v":" "},{"$f":"IF(ISBLANK('請求書（貴社控）'!F21),\" \",'請求書（貴社控）'!F21)","v":" "},{"$f":"IF(ISBLANK('請求書（貴社控）'!G21),\" \",'請求書（貴社控）'!G21)","v":" "},{"$f":"IF(ISBLANK('請求書（貴社控）'!H21),\" \",'請求書（貴社控）'!H21)","v":" "},{"$f":"IF(ISBLANK('請求書（貴社控）'!I21),\" \",'請求書（貴社控）'!I21)","v":" "},{"$f":"IF(ISBLANK('請求書（貴社控）'!J21),\" \",'請求書（貴社控）'!J21)","v":" "},null,null,null,null,null,null,null,null,null,null,null,null,{"$f":"'請求書（貴社控）'!W21:Y21","v":0}]
[null,null,null,null,null,null,null,null,null,null,null,"ｄ",null,null,"b-c 今 回 請 求 金 額",null,null,null,null,null,null,null,{"$f":"'請求書（貴社控）'!W22:Y22","v":0}]
["発注書No",null,null,{"$f":"IF(ISBLANK('請求書（貴社控）'!D23),\" \",'請求書（貴社控）'!D23)","v":" "},{"$f":"IF(ISBLANK('請求書（貴社控）'!E23),\" \",'請求書（貴社控）'!E23)","v":" "},{"$f":"IF(ISBLANK('請求書（貴社控）'!F23),\" \",'請求書（貴社控）'!F23)","v":" "},{"$f":"IF(ISBLANK('請求書（貴社控）'!G23),\" \",'請求書（貴社控）'!G23)","v":" "},{"$f":"IF(ISBLANK('請求書（貴社控）'!H23),\" \",'請求書（貴社控）'!H23)","v":" "},{"$f":"IF(ISBLANK('請求書（貴社控）'!I23),\" \",'請求書（貴社控）'!I23)","v":" "},{"$f":"IF(ISBLANK('請求書（貴社控）'!J23),\" \",'請求書（貴社控）'!J23)","v":" "},null,null,null,null,null,null,null,null,null,null,null,null,{"$f":"'請求書（貴社控）'!W23:Y23","v":0}]
[null,null,null,null,null,null,null,null,null,null,null,"今　回　査　定　額"]
[null,"種　　別"]
[null,null,"601\n材料費\n\n645\n仮設費\n\n655\n租税公課\n\n620\n法定福利費\n\n670\n交 通 費",null,"630\n外注費\n\n652\n動力用水光熱費\n\n656\n地代家賃\n\n621\n福利厚生費\n\n671\n交際費",null,"631\n労務費\n\n653\n設計費\n\n657\n保険料\n\n667\n事務用品費\n\n692\n雑　費",null,"649\n機械等\n\n654\n労務管理費\n\n618\n従業員給料\n\n669\n通信費\n\n",null,null,"【備考欄】"]

{"sheet":"請求書 手書用","index":3,"n_rows":26,"n_cols":24,"rows_kept":26,"cut":false,"hidden":false,"merged":[[23,11,24,21],[23,22,24,24],[25,2,36,3],[25,4,36,5],[25,6,36,7],[25,8,36,9],[25,11,27,24],[20,0,20,2],[21,11,22,13],[21,14,22,21],[21,22,22,24],[22,0,22,2],[17,18,17,19],[17,20,17,21],[17,22,17,24],[19,11,20,13],[19,14,20,21],[19,22,20,24],[18,0,18,10],[18,11,18,13],[18,14,18,21],[18,22,18,24],[15,2,15,10],[15,11,15,17],[15,18,15,19],[15,20,15,21],[15,22,15,24],[16,2,16,10],[16,11,16,17],[16,18,16,19],[16,20,16,21],[16,22,16,24],[17,1,17,10],[17,11,17,17],[13,2,13,10],[13,11,13,17],[13,18,13,19],[13,20,13,21],[13,22,13,24],[14,2,14,10],[14,11,14,17],[14,18,14,19],[14,20,14,21],[14,22,14,24],[11,2,11,10],[11,11,11,17],[11,18,11,19],[11,20,11,21],[11,22,11,24],[12,2,12,10],[12,11,12,17],[12,18,12,19],[12,20,12,21],[12,22,12,24],[7,2,7,9],[7,14,7,18],[7,19,7,24],[8,14,8,18],[8,19,8,24],[10,2,10,10],[10,11,10,17],[10,18,10,19],[10,20,10,21],[10,22,10,24],[1,1,2,23],[3,20,3,24],[4,1,5,9],[5,14,5,18],[6,1,6,9],[6,14,6,18],[6,19,6,24]]}
[null,null,null,null,null,null,null,null,null,null,null,null,null,null,null,null,null,null,null,null,null,"No.",null,{"$f":"'請求書（貴社控）'!X1","v":0}]
[null,"　請 求 書"]
[]
[null,null,null,null,null,null,null,null,null,null,null,null,null,null,null,null,null,null,null,null,"年　　　月末締"]
[null,"三 柏 株式会社　御中"]
[null,null,null,null,null,null,null,null,null,null,null,null,null,null,"請求者コード",null,null,null,null,null,null,"―"]
[null,null,null,null,null,null,null,null,null,null,null,null,null,null,"住 所"]
[null,"工事略称",null,null,null,null,null,null,null,null,"作業所",null,null,null,"社 名"]
["下記の通り請求致します。",null,null,null,null,null,null,null,null,null,null,null,null,null,"TEL"]
[]
["月","日","内訳",null,null,null,null,null,null,null,null,null,null,null,null,null,null,null,"単位",null,"単価\n又は\n出来高％",null,"金額\n又は\n出来高金額"]
[]
[]
[]
[]
[]
[]
["a","合　　　　　　計"]
["a・dは全請求者記入　b・ｃは契約対象取引記入",null,null,null,null,null,null,null,null,null,null,"ｂ",null,null,"a×90％（未契約は×80％）"]
[null,null,null,null,null,null,null,null,null,null,null,"ｃ",null,null,"前 回 迄 の 入 金 額"]
["注文書No"]
[null,null,null,null,null,null,null,null,null,null,null,"ｄ",null,null,"b-c 今 回 請 求 金 額"]
["発注書No"]
[null,null,null,null,null,null,null,null,null,null,null,"今　回　査　定　額"]
[null,"種　　別"]
[null,null,"601\n材料費\n\n645\n仮設費\n\n655\n租税公課\n\n620\n法定福利費\n\n670\n交 通 費",null,"630\n外注費\n\n652\n動力用水光熱費\n\n656\n地代家賃\n\n621\n福利厚生費\n\n671\n交際費",null,"631\n労務費\n\n653\n設計費\n\n657\n保険料\n\n667\n事務用品費\n\n692\n雑　費",null,"649\n機械等\n\n654\n労務管理費\n\n618\n従業員給料\n\n669\n通信費\n\n",null,null,"【備考欄】"]